BEGIN:VCALENDAR
PRODID:-//eluceo/ical//2.0/EN
VERSION:2.0
CALSCALE:GREGORIAN
BEGIN:VEVENT
UID:1e0b275cd5285141907d5aace46143b1
DTSTAMP:20260419T125553Z
SUMMARY:Rótarýfundur
DESCRIPTION:
URL:https://olafsfjordur.rotary1360.is/is/agenda/show/3244
DTSTART;TZID=Iceland:20211014T190000
DTEND;TZID=Iceland:20211014T201500
LOCATION:Höllin\nHafnargötu 16\n625 Ólafsfjörður\n
CATEGORIES:Rotary
END:VEVENT
BEGIN:VTIMEZONE
TZID:Iceland
BEGIN:STANDARD
DTSTART:20211014T190000
TZNAME:GMT
TZOFFSETTO:+0000
TZOFFSETFROM:+0000
END:STANDARD
END:VTIMEZONE
END:VCALENDAR
